BEGIN:VCALENDAR
VERSION:2.0
PRODID:-//Lerín Artists Management - ECPv6.15.19//NONSGML v1.0//EN
CALSCALE:GREGORIAN
METHOD:PUBLISH
X-WR-CALNAME:Lerín Artists Management
X-ORIGINAL-URL:https://lerinartists.com/en/
X-WR-CALDESC:Events for Lerín Artists Management
REFRESH-INTERVAL;VALUE=DURATION:PT1H
X-Robots-Tag:noindex
X-PUBLISHED-TTL:PT1H
BEGIN:VTIMEZONE
TZID:Europe/Madrid
BEGIN:DAYLIGHT
TZOFFSETFROM:+0100
TZOFFSETTO:+0200
TZNAME:CEST
DTSTART:20250330T010000
END:DAYLIGHT
BEGIN:STANDARD
TZOFFSETFROM:+0200
TZOFFSETTO:+0100
TZNAME:CET
DTSTART:20251026T010000
END:STANDARD
BEGIN:DAYLIGHT
TZOFFSETFROM:+0100
TZOFFSETTO:+0200
TZNAME:CEST
DTSTART:20260329T010000
END:DAYLIGHT
BEGIN:STANDARD
TZOFFSETFROM:+0200
TZOFFSETTO:+0100
TZNAME:CET
DTSTART:20261025T010000
END:STANDARD
BEGIN:DAYLIGHT
TZOFFSETFROM:+0100
TZOFFSETTO:+0200
TZNAME:CEST
DTSTART:20270328T010000
END:DAYLIGHT
BEGIN:STANDARD
TZOFFSETFROM:+0200
TZOFFSETTO:+0100
TZNAME:CET
DTSTART:20271031T010000
END:STANDARD
END:VTIMEZONE
BEGIN:VEVENT
DTSTART;TZID=Europe/Madrid:20260419T150000
DTEND;TZID=Europe/Madrid:20260419T150000
DTSTAMP:20260419T143319
CREATED:20251008T075303Z
LAST-MODIFIED:20251008T075428Z
UID:10001770-1776610800-1776610800@lerinartists.com
SUMMARY:Don Giovanni | Dijon
DESCRIPTION:Artist: Alejandro Baliñas \n\nDon Giovanni\, Wolfgang Amadeus Mozart \nConductor: Katharina Müllner\nStage director: Agnès Jaoui\nSet: Éric Ruf\nLighting: Bertrand Couderc\nCosutmes: Pierre-Jean Larroque\nVideo: Pierre Martin Oriol \nOrchestre Dijon Bourgogne\nChœur de l’Opéra de Dijon \nDon Giovanni Dario Solari\nLeporello Alejandro Baliñas Vieites\nDonna Anna Marianne Croux\nDon Ottavio Marco Ciaponi\nLe Commandeur Sulkhan Jaiani\nDonna Elvira Karine Deshayes\nZerlina Catherine Trottmann\nMasetto Frederic Mörth
URL:https://lerinartists.com/en/evento/don-giovanni-dijon/2026-04-19/
LOCATION:Opera Dijon\, 16 Rue Rameau\, Dijon\, France
CATEGORIES:Alejandro Baliñas
ATTACH;FMTTYPE=image/jpeg:https://lerinartists.com/wp-content/uploads/2024/10/Alejandro-Balinas-3.jpg
END:VEVENT
BEGIN:VEVENT
DTSTART;TZID=Europe/Madrid:20260419T180000
DTEND;TZID=Europe/Madrid:20260419T180000
DTSTAMP:20260419T143319
CREATED:20251008T080701Z
LAST-MODIFIED:20251008T080934Z
UID:10001785-1776621600-1776621600@lerinartists.com
SUMMARY:La novia vendida | Teatro Real
DESCRIPTION:Artist: Toni Marsol \n\nLa novia vendida; Bedřich Smetana \nCoproduction by Teatro Real \,Opéra National de Lyon\,  Oper Köln\, Théâtre Royal de La Monnaie de Bruselas \nConductor: Gustavo Gimeno\nStage director and costumes: Laurent Pelly\nSet: Caroline Ginet\nChorusmaster: José Luis Basso \nOrquesta y Coro Titulares del Teatro Real\n(Coro Intermezzo y Orquesta Sinfónica de Madrid) \n  \nCast \nKrušina: Manel Esteve \nLudmila: María Rey-Joly\nMařenka: Svetlana Aksenova (14\, 17\, 20\, 24\, 28\, 30 abr); Natalia Tanasii (16\, 19\, 23\, 29 abr)\nMicha: Toni Marsol\nHáta: Monica Bacelli\nVašek: Mikeldi Atxalandabaso (14\, 17\, 20\, 24\, 28\, 30 abr); Moisés Marín (16\, 19\, 23\, 29 abr)\nJeník: Pavel Černoch (14\, 17\, 20\, 24\, 28\, 30 abr); Sean Pannikar (16\, 19\, 23\, 29 abr)\nKecal: Günther Groissböck (14\, 17\, 20\, 24\, 28\, 30 abr); Martin Winkler (16\, 19\, 23\, 29 abr)\nComediante principal: Jaroslav Březina\nEsmeralda: Rocío Pérez\nIndio: Ihor Voievodin \n 
URL:https://lerinartists.com/en/evento/la-novia-vendida-teatro-real/2026-04-19/
LOCATION:Teatro Real de Madrid\, Plaza de Isabel II\, s/n\, Madrid\, Madrid\, 28013\, España
CATEGORIES:Toni Marsol
ATTACH;FMTTYPE=image/jpeg:https://lerinartists.com/wp-content/uploads/2025/05/toni-marsol-scaled.jpg
END:VEVENT
END:VCALENDAR