BEGIN:VCALENDAR
VERSION:2.0
PRODID:-//Lerín Artists Management - ECPv6.15.20//NONSGML v1.0//EN
CALSCALE:GREGORIAN
METHOD:PUBLISH
X-WR-CALNAME:Lerín Artists Management
X-ORIGINAL-URL:https://lerinartists.com/en/
X-WR-CALDESC:Events for Lerín Artists Management
REFRESH-INTERVAL;VALUE=DURATION:PT1H
X-Robots-Tag:noindex
X-PUBLISHED-TTL:PT1H
BEGIN:VTIMEZONE
TZID:Europe/Madrid
BEGIN:DAYLIGHT
TZOFFSETFROM:+0100
TZOFFSETTO:+0200
TZNAME:CEST
DTSTART:20250330T010000
END:DAYLIGHT
BEGIN:STANDARD
TZOFFSETFROM:+0200
TZOFFSETTO:+0100
TZNAME:CET
DTSTART:20251026T010000
END:STANDARD
BEGIN:DAYLIGHT
TZOFFSETFROM:+0100
TZOFFSETTO:+0200
TZNAME:CEST
DTSTART:20260329T010000
END:DAYLIGHT
BEGIN:STANDARD
TZOFFSETFROM:+0200
TZOFFSETTO:+0100
TZNAME:CET
DTSTART:20261025T010000
END:STANDARD
BEGIN:DAYLIGHT
TZOFFSETFROM:+0100
TZOFFSETTO:+0200
TZNAME:CEST
DTSTART:20270328T010000
END:DAYLIGHT
BEGIN:STANDARD
TZOFFSETFROM:+0200
TZOFFSETTO:+0100
TZNAME:CET
DTSTART:20271031T010000
END:STANDARD
END:VTIMEZONE
BEGIN:VEVENT
DTSTART;TZID=Europe/Madrid:20260425T190000
DTEND;TZID=Europe/Madrid:20260425T190000
DTSTAMP:20260421T154502
CREATED:20260303T101450Z
LAST-MODIFIED:20260303T101623Z
UID:10001907-1777143600-1777143600@lerinartists.com
SUMMARY:Turandot | Palau de la Música
DESCRIPTION:Artistas: Carles Pachon\, Andrés Moreno\, Marc Sala \n\n  \n  \nDirector musical: Tomàs Grau\nDirector de escena: Jordi Gastó\nAsistente musical: Astrid Steinschaden \nOrfeó Català\nCor Infantil de l’Orfeó Català\nFranz Schubert Filharmonia \nTurandot: Lianna Haroutounian\nCalaf: Xavier Moreno\nLiu: Carolina López Moreno\nTimur: David Cervera\nPing: Carles Pachón\nPang: Andrés Moreno\nPong: Marc Sala\nAltoum: Raúl Giménez
URL:https://lerinartists.com/en/evento/turandot-palau-de-la-musica/2026-04-25/
LOCATION:Palau de la Música Catalana\, C/ Palau de la Música\, 4-6\, Barcelona\, 08003\, España
CATEGORIES:Andrés Moreno García,Carles Pachon,Marc Sala
ATTACH;FMTTYPE=image/jpeg:https://lerinartists.com/wp-content/uploads/2026/03/turandot.jpg
END:VEVENT
BEGIN:VEVENT
DTSTART;TZID=Europe/Madrid:20260427T200000
DTEND;TZID=Europe/Madrid:20260427T200000
DTSTAMP:20260421T154502
CREATED:20260303T101450Z
LAST-MODIFIED:20260303T101623Z
UID:10001908-1777320000-1777320000@lerinartists.com
SUMMARY:Turandot | Palau de la Música
DESCRIPTION:Artistas: Carles Pachon\, Andrés Moreno\, Marc Sala \n\n  \n  \nDirector musical: Tomàs Grau\nDirector de escena: Jordi Gastó\nAsistente musical: Astrid Steinschaden \nOrfeó Català\nCor Infantil de l’Orfeó Català\nFranz Schubert Filharmonia \nTurandot: Lianna Haroutounian\nCalaf: Xavier Moreno\nLiu: Carolina López Moreno\nTimur: David Cervera\nPing: Carles Pachón\nPang: Andrés Moreno\nPong: Marc Sala\nAltoum: Raúl Giménez
URL:https://lerinartists.com/en/evento/turandot-palau-de-la-musica/2026-04-27/
LOCATION:Palau de la Música Catalana\, C/ Palau de la Música\, 4-6\, Barcelona\, 08003\, España
CATEGORIES:Andrés Moreno García,Carles Pachon,Marc Sala
ATTACH;FMTTYPE=image/jpeg:https://lerinartists.com/wp-content/uploads/2026/03/turandot.jpg
END:VEVENT
END:VCALENDAR