BEGIN:VCALENDAR
VERSION:2.0
PRODID:-//Lerín Artists Management - ECPv6.15.20//NONSGML v1.0//EN
CALSCALE:GREGORIAN
METHOD:PUBLISH
X-WR-CALNAME:Lerín Artists Management
X-ORIGINAL-URL:https://lerinartists.com
X-WR-CALDESC:Eventos para Lerín Artists Management
REFRESH-INTERVAL;VALUE=DURATION:PT1H
X-Robots-Tag:noindex
X-PUBLISHED-TTL:PT1H
BEGIN:VTIMEZONE
TZID:Europe/Madrid
BEGIN:DAYLIGHT
TZOFFSETFROM:+0100
TZOFFSETTO:+0200
TZNAME:CEST
DTSTART:20250330T010000
END:DAYLIGHT
BEGIN:STANDARD
TZOFFSETFROM:+0200
TZOFFSETTO:+0100
TZNAME:CET
DTSTART:20251026T010000
END:STANDARD
BEGIN:DAYLIGHT
TZOFFSETFROM:+0100
TZOFFSETTO:+0200
TZNAME:CEST
DTSTART:20260329T010000
END:DAYLIGHT
BEGIN:STANDARD
TZOFFSETFROM:+0200
TZOFFSETTO:+0100
TZNAME:CET
DTSTART:20261025T010000
END:STANDARD
BEGIN:DAYLIGHT
TZOFFSETFROM:+0100
TZOFFSETTO:+0200
TZNAME:CEST
DTSTART:20270328T010000
END:DAYLIGHT
BEGIN:STANDARD
TZOFFSETFROM:+0200
TZOFFSETTO:+0100
TZNAME:CET
DTSTART:20271031T010000
END:STANDARD
END:VTIMEZONE
BEGIN:VEVENT
DTSTART;TZID=Europe/Madrid:20260421T200000
DTEND;TZID=Europe/Madrid:20260421T200000
DTSTAMP:20260421T171854
CREATED:20251008T075303Z
LAST-MODIFIED:20251008T105629Z
UID:10001767-1776801600-1776801600@lerinartists.com
SUMMARY:Don Giovanni | Dijon
DESCRIPTION:Artista: Alejandro Baliñas \n\nDon Giovanni\, Wolfgang Amadeus Mozart \nDirector musical: Katharina Müllner\nDirecto de escena: Agnès Jaoui\nEscenografía: Éric Ruf\nIluminación: Bertrand Couderc\nVestuario: Pierre-Jean Larroque\nVideos: Pierre Martin Oriol \nOrchestre Dijon Bourgogne\nChœur de l’Opéra de Dijon \nDon Giovanni Dario Solari\nLeporello Alejandro Baliñas Vieites\nDonna Anna Marianne Croux\nDon Ottavio Marco Ciaponi\nLe Commandeur Sulkhan Jaiani\nDonna Elvira Karine Deshayes\nZerlina Catherine Trottmann\nMasetto Frederic Mörth
URL:https://lerinartists.com/evento/don-giovanni-dijon/2026-04-21/
LOCATION:Opera Dijon\, 16 Rue Rameau\, Dijon\, France
CATEGORIES:Alejandro Baliñas
ATTACH;FMTTYPE=image/jpeg:https://lerinartists.com/wp-content/uploads/2024/10/Alejandro-Balinas-3.jpg
END:VEVENT
END:VCALENDAR