BEGIN:VCALENDAR
VERSION:2.0
PRODID:-//Lerín Artists Management - ECPv6.15.20//NONSGML v1.0//EN
CALSCALE:GREGORIAN
METHOD:PUBLISH
X-WR-CALNAME:Lerín Artists Management
X-ORIGINAL-URL:https://lerinartists.com
X-WR-CALDESC:Eventos para Lerín Artists Management
REFRESH-INTERVAL;VALUE=DURATION:PT1H
X-Robots-Tag:noindex
X-PUBLISHED-TTL:PT1H
BEGIN:VTIMEZONE
TZID:Europe/Madrid
BEGIN:DAYLIGHT
TZOFFSETFROM:+0100
TZOFFSETTO:+0200
TZNAME:CEST
DTSTART:20250330T010000
END:DAYLIGHT
BEGIN:STANDARD
TZOFFSETFROM:+0200
TZOFFSETTO:+0100
TZNAME:CET
DTSTART:20251026T010000
END:STANDARD
BEGIN:DAYLIGHT
TZOFFSETFROM:+0100
TZOFFSETTO:+0200
TZNAME:CEST
DTSTART:20260329T010000
END:DAYLIGHT
BEGIN:STANDARD
TZOFFSETFROM:+0200
TZOFFSETTO:+0100
TZNAME:CET
DTSTART:20261025T010000
END:STANDARD
BEGIN:DAYLIGHT
TZOFFSETFROM:+0100
TZOFFSETTO:+0200
TZNAME:CEST
DTSTART:20270328T010000
END:DAYLIGHT
BEGIN:STANDARD
TZOFFSETFROM:+0200
TZOFFSETTO:+0100
TZNAME:CET
DTSTART:20271031T010000
END:STANDARD
END:VTIMEZONE
BEGIN:VEVENT
DTSTART;TZID=Europe/Madrid:20260423T193000
DTEND;TZID=Europe/Madrid:20260423T193000
DTSTAMP:20260423T020215
CREATED:20251008T080701Z
LAST-MODIFIED:20251008T105736Z
UID:10001778-1776972600-1776972600@lerinartists.com
SUMMARY:La novia vendida | Teatro Real
DESCRIPTION:Artista: Toni Marsol \n\nLa novia vendida; Bedřich Smetana \nÓpera cómica en tres actos \nLibreto: Karel Sabina\nCoproducción del Teatro Real junto a la Opéra National de Lyon\, la Oper Köln y el Théâtre Royal de La Monnaie de Bruselas \n  \nDirección musical: Gustavo Gimeno\nDirección de escena y vestuario: Laurent Pelly\nEscenografía: Caroline Ginet\nDirección del coro: José Luis Basso \nOrquesta y Coro Titulares del Teatro Real\n(Coro Intermezzo y Orquesta Sinfónica de Madrid) \n  \nReparto \nKrušina: Manel Esteve \nLudmila: María Rey-Joly\nMařenka: Svetlana Aksenova (14\, 17\, 20\, 24\, 28\, 30 abr); Natalia Tanasii (16\, 19\, 23\, 29 abr)\nMicha: Toni Marsol\nHáta: Monica Bacelli\nVašek: Mikeldi Atxalandabaso (14\, 17\, 20\, 24\, 28\, 30 abr); Moisés Marín (16\, 19\, 23\, 29 abr)\nJeník: Pavel Černoch (14\, 17\, 20\, 24\, 28\, 30 abr); Sean Pannikar (16\, 19\, 23\, 29 abr)\nKecal: Günther Groissböck (14\, 17\, 20\, 24\, 28\, 30 abr); Martin Winkler (16\, 19\, 23\, 29 abr)\nComediante principal: Jaroslav Březina\nEsmeralda: Rocío Pérez\nIndio: Ihor Voievodin \n 
URL:https://lerinartists.com/evento/la-novia-vendida-teatro-real/2026-04-23/
LOCATION:Teatro Real de Madrid\, Plaza de Isabel II\, s/n\, Madrid\, Madrid\, 28013\, España
CATEGORIES:Toni Marsol
ATTACH;FMTTYPE=image/jpeg:https://lerinartists.com/wp-content/uploads/2025/05/toni-marsol-scaled.jpg
END:VEVENT
BEGIN:VEVENT
DTSTART;TZID=Europe/Madrid:20260423T193000
DTEND;TZID=Europe/Madrid:20260423T193000
DTSTAMP:20260423T020215
CREATED:20260323T120757Z
LAST-MODIFIED:20260323T120757Z
UID:10001914-1776972600-1776972600@lerinartists.com
SUMMARY:El gitano por amor | Teatro de la Zarzuela
DESCRIPTION:Artista: Juan de Dios Mateos \n\nDirección musical: Carlos Aragón \nDirección de escena: Emilio Sagi \nEscenografía: Daniel Bianco\nVestuario: Jesús Ruiz \nIluminación: Eduardo Bravo  \nOrquesta de la Comunidad de Madrid \nCoro del Teatro de La Zarzuela\nDirector: Antonio Fauró \nReparto\nHernando: Juan Antonio Sanabria(días 22\, 24 y 26) / Juan de Dios Mateos (días 23 y 25)\nRosita: Sabina Puértolas (días 22\, 24 y 26) / Suzana Nadejde (días 23 y 25)\nInés: María José Moreno (días 22\, 24 y 26) / Rocío Faus (días 23 y 25)\nBaldaquín: Javier Povedano\nLaura: Begoña Gómez\nManolo: José Ángel Florido\nMarqués del Pino: Pietro Spagnoli 
URL:https://lerinartists.com/evento/el-gitano-por-amor-zarzuela/2026-04-23/
LOCATION:Teatro de la Zarzuela\, C. de Jovellanos\, 4\, Centro\, Madrid\, 28014\, España
CATEGORIES:Juan de Dios Mateos
ATTACH;FMTTYPE=image/jpeg:https://lerinartists.com/wp-content/uploads/2023/12/Juan-de-Dios-Mateos-Foto-de-Domingo-Molina-scaled.jpg
END:VEVENT
BEGIN:VEVENT
DTSTART;TZID=Europe/Madrid:20260423T200000
DTEND;TZID=Europe/Madrid:20260423T200000
DTSTAMP:20260423T020215
CREATED:20251008T075303Z
LAST-MODIFIED:20251008T105629Z
UID:10001768-1776974400-1776974400@lerinartists.com
SUMMARY:Don Giovanni | Dijon
DESCRIPTION:Artista: Alejandro Baliñas \n\nDon Giovanni\, Wolfgang Amadeus Mozart \nDirector musical: Katharina Müllner\nDirecto de escena: Agnès Jaoui\nEscenografía: Éric Ruf\nIluminación: Bertrand Couderc\nVestuario: Pierre-Jean Larroque\nVideos: Pierre Martin Oriol \nOrchestre Dijon Bourgogne\nChœur de l’Opéra de Dijon \nDon Giovanni Dario Solari\nLeporello Alejandro Baliñas Vieites\nDonna Anna Marianne Croux\nDon Ottavio Marco Ciaponi\nLe Commandeur Sulkhan Jaiani\nDonna Elvira Karine Deshayes\nZerlina Catherine Trottmann\nMasetto Frederic Mörth
URL:https://lerinartists.com/evento/don-giovanni-dijon/2026-04-23/
LOCATION:Opera Dijon\, 16 Rue Rameau\, Dijon\, France
CATEGORIES:Alejandro Baliñas
ATTACH;FMTTYPE=image/jpeg:https://lerinartists.com/wp-content/uploads/2024/10/Alejandro-Balinas-3.jpg
END:VEVENT
END:VCALENDAR