BEGIN:VCALENDAR
VERSION:2.0
PRODID:-//Lerín Artists Management - ECPv6.15.19//NONSGML v1.0//EN
CALSCALE:GREGORIAN
METHOD:PUBLISH
X-WR-CALNAME:Lerín Artists Management
X-ORIGINAL-URL:https://lerinartists.com
X-WR-CALDESC:Eventos para Lerín Artists Management
REFRESH-INTERVAL;VALUE=DURATION:PT1H
X-Robots-Tag:noindex
X-PUBLISHED-TTL:PT1H
BEGIN:VTIMEZONE
TZID:Europe/Madrid
BEGIN:DAYLIGHT
TZOFFSETFROM:+0100
TZOFFSETTO:+0200
TZNAME:CEST
DTSTART:20250330T010000
END:DAYLIGHT
BEGIN:STANDARD
TZOFFSETFROM:+0200
TZOFFSETTO:+0100
TZNAME:CET
DTSTART:20251026T010000
END:STANDARD
BEGIN:DAYLIGHT
TZOFFSETFROM:+0100
TZOFFSETTO:+0200
TZNAME:CEST
DTSTART:20260329T010000
END:DAYLIGHT
BEGIN:STANDARD
TZOFFSETFROM:+0200
TZOFFSETTO:+0100
TZNAME:CET
DTSTART:20261025T010000
END:STANDARD
BEGIN:DAYLIGHT
TZOFFSETFROM:+0100
TZOFFSETTO:+0200
TZNAME:CEST
DTSTART:20270328T010000
END:DAYLIGHT
BEGIN:STANDARD
TZOFFSETFROM:+0200
TZOFFSETTO:+0100
TZNAME:CET
DTSTART:20271031T010000
END:STANDARD
END:VTIMEZONE
BEGIN:VEVENT
DTSTART;TZID=Europe/Madrid:20260510T140000
DTEND;TZID=Europe/Madrid:20260510T140000
DTSTAMP:20260419T194452
CREATED:20260410T102252Z
LAST-MODIFIED:20260410T102252Z
UID:10001929-1778421600-1778421600@lerinartists.com
SUMMARY:Andrea Chénier | Opera Delaware
DESCRIPTION:Artista: Taylor-Alexis Dupont  \n\n  \nDirector musical: Anthony Barrese\nDirector de escena: Octavio Cardenas\nDirector del coro: George Hemcher\nIluminación: Tláloc López-Watermann\nVestuario y caracterización: Brittany Rappise \nReparto \nAndrea Chénier: Dane Suarez\nMaddalena di Coigny: Toni Marie Palmertree\nCarlo Gérard: Gerard Moon\nBersi: Taylor-Alexis Dupont\nL’Incredibile:  Max Zander\nMathieu: Brian James Myer\nRoucher: Dylan Gregg\nMadelon:  Daryl Freedman\nCountess di Coigny:  Lauren Cook\nFléville + Fouqier-Tinville: Marcus DeLoach\nL’abate:  Douglas Rowland\nIl maestro di casa + Dumas: Dominic Walker\nSchmidt : Dante Doganiero
URL:https://lerinartists.com/evento/andrea-chenier-opera-delaware/2026-05-10/
LOCATION:The Grand Opera House\, 4 S. Poplar St.\, Wilmington\, United States
CATEGORIES:Taylor-Alexis Dupont
ATTACH;FMTTYPE=image/jpeg:https://lerinartists.com/wp-content/uploads/2024/07/Taylor-Alexis-DuPont.jpg
END:VEVENT
BEGIN:VEVENT
DTSTART;TZID=Europe/Madrid:20260513T193000
DTEND;TZID=Europe/Madrid:20260513T193000
DTSTAMP:20260419T194452
CREATED:20260410T102252Z
LAST-MODIFIED:20260410T102252Z
UID:10001930-1778700600-1778700600@lerinartists.com
SUMMARY:Andrea Chénier | Opera Delaware
DESCRIPTION:Artista: Taylor-Alexis Dupont  \n\n  \nDirector musical: Anthony Barrese\nDirector de escena: Octavio Cardenas\nDirector del coro: George Hemcher\nIluminación: Tláloc López-Watermann\nVestuario y caracterización: Brittany Rappise \nReparto \nAndrea Chénier: Dane Suarez\nMaddalena di Coigny: Toni Marie Palmertree\nCarlo Gérard: Gerard Moon\nBersi: Taylor-Alexis Dupont\nL’Incredibile:  Max Zander\nMathieu: Brian James Myer\nRoucher: Dylan Gregg\nMadelon:  Daryl Freedman\nCountess di Coigny:  Lauren Cook\nFléville + Fouqier-Tinville: Marcus DeLoach\nL’abate:  Douglas Rowland\nIl maestro di casa + Dumas: Dominic Walker\nSchmidt : Dante Doganiero
URL:https://lerinartists.com/evento/andrea-chenier-opera-delaware/2026-05-13/
LOCATION:The Grand Opera House\, 4 S. Poplar St.\, Wilmington\, United States
CATEGORIES:Taylor-Alexis Dupont
ATTACH;FMTTYPE=image/jpeg:https://lerinartists.com/wp-content/uploads/2024/07/Taylor-Alexis-DuPont.jpg
END:VEVENT
BEGIN:VEVENT
DTSTART;TZID=Europe/Madrid:20260515T193000
DTEND;TZID=Europe/Madrid:20260515T193000
DTSTAMP:20260419T194452
CREATED:20260410T102252Z
LAST-MODIFIED:20260410T102252Z
UID:10001931-1778873400-1778873400@lerinartists.com
SUMMARY:Andrea Chénier | Opera Delaware
DESCRIPTION:Artista: Taylor-Alexis Dupont  \n\n  \nDirector musical: Anthony Barrese\nDirector de escena: Octavio Cardenas\nDirector del coro: George Hemcher\nIluminación: Tláloc López-Watermann\nVestuario y caracterización: Brittany Rappise \nReparto \nAndrea Chénier: Dane Suarez\nMaddalena di Coigny: Toni Marie Palmertree\nCarlo Gérard: Gerard Moon\nBersi: Taylor-Alexis Dupont\nL’Incredibile:  Max Zander\nMathieu: Brian James Myer\nRoucher: Dylan Gregg\nMadelon:  Daryl Freedman\nCountess di Coigny:  Lauren Cook\nFléville + Fouqier-Tinville: Marcus DeLoach\nL’abate:  Douglas Rowland\nIl maestro di casa + Dumas: Dominic Walker\nSchmidt : Dante Doganiero
URL:https://lerinartists.com/evento/andrea-chenier-opera-delaware/2026-05-15/
LOCATION:The Grand Opera House\, 4 S. Poplar St.\, Wilmington\, United States
CATEGORIES:Taylor-Alexis Dupont
ATTACH;FMTTYPE=image/jpeg:https://lerinartists.com/wp-content/uploads/2024/07/Taylor-Alexis-DuPont.jpg
END:VEVENT
END:VCALENDAR