BEGIN:VCALENDAR
VERSION:2.0
PRODID:-//Lerín Artists Management - ECPv6.15.19//NONSGML v1.0//EN
CALSCALE:GREGORIAN
METHOD:PUBLISH
X-ORIGINAL-URL:https://lerinartists.com
X-WR-CALDESC:Eventos para Lerín Artists Management
REFRESH-INTERVAL;VALUE=DURATION:PT1H
X-Robots-Tag:noindex
X-PUBLISHED-TTL:PT1H
BEGIN:VTIMEZONE
TZID:Europe/Madrid
BEGIN:DAYLIGHT
TZOFFSETFROM:+0100
TZOFFSETTO:+0200
TZNAME:CEST
DTSTART:20250330T010000
END:DAYLIGHT
BEGIN:STANDARD
TZOFFSETFROM:+0200
TZOFFSETTO:+0100
TZNAME:CET
DTSTART:20251026T010000
END:STANDARD
BEGIN:DAYLIGHT
TZOFFSETFROM:+0100
TZOFFSETTO:+0200
TZNAME:CEST
DTSTART:20260329T010000
END:DAYLIGHT
BEGIN:STANDARD
TZOFFSETFROM:+0200
TZOFFSETTO:+0100
TZNAME:CET
DTSTART:20261025T010000
END:STANDARD
BEGIN:DAYLIGHT
TZOFFSETFROM:+0100
TZOFFSETTO:+0200
TZNAME:CEST
DTSTART:20270328T010000
END:DAYLIGHT
BEGIN:STANDARD
TZOFFSETFROM:+0200
TZOFFSETTO:+0100
TZNAME:CET
DTSTART:20271031T010000
END:STANDARD
END:VTIMEZONE
BEGIN:VEVENT
DTSTART;TZID=Europe/Madrid:20260613T193000
DTEND;TZID=Europe/Madrid:20260613T193000
DTSTAMP:20260419T181126
CREATED:20260415T101423Z
LAST-MODIFIED:20260415T102221Z
UID:10001942-1781379000-1781379000@lerinartists.com
SUMMARY:La clemenza di Tito | MozartFest
DESCRIPTION:Artista: Maite Beaumont \n\nDirector musical: Christophe Rousset\nOrchestra — Les Talens Lyriques \nReparto: \nTito: Jeremy Ovenden\nVitellia: Aphrodite Patoulidou\nServilia: Anna El-Khashem\nSesto: Maite Beaumont\nAnnio: Ambroisine Bré\nPublio: Adrien Fournaison
URL:https://lerinartists.com/evento/la-clemenza-di-tito-mozartfest/2026-06-13/
LOCATION:Mozart Festival Würzburg\, Hofstraße 11 / Mozartareal\, Würzburg\, Germany
CATEGORIES:Maite Beaumont
ATTACH;FMTTYPE=image/jpeg:https://lerinartists.com/wp-content/uploads/2023/12/4842-663©-A-Bofill.jpg
END:VEVENT
BEGIN:VEVENT
DTSTART;TZID=Europe/Madrid:20260615T220000
DTEND;TZID=Europe/Madrid:20260615T220000
DTSTAMP:20260419T181126
CREATED:20260415T101423Z
LAST-MODIFIED:20260415T102221Z
UID:10001943-1781560800-1781560800@lerinartists.com
SUMMARY:La clemenza di Tito | MozartFest
DESCRIPTION:Artista: Maite Beaumont \n\nDirector musical: Christophe Rousset\nOrchestra — Les Talens Lyriques \nReparto: \nTito: Jeremy Ovenden\nVitellia: Aphrodite Patoulidou\nServilia: Anna El-Khashem\nSesto: Maite Beaumont\nAnnio: Ambroisine Bré\nPublio: Adrien Fournaison
URL:https://lerinartists.com/evento/la-clemenza-di-tito-mozartfest/2026-06-15/
LOCATION:Mozart Festival Würzburg\, Hofstraße 11 / Mozartareal\, Würzburg\, Germany
CATEGORIES:Maite Beaumont
ATTACH;FMTTYPE=image/jpeg:https://lerinartists.com/wp-content/uploads/2023/12/4842-663©-A-Bofill.jpg
END:VEVENT
END:VCALENDAR